BEGIN:VCALENDAR
VERSION:2.0
PRODID:-//VfB Altheim 1920 e.V. - ECPv6.15.20//NONSGML v1.0//EN
CALSCALE:GREGORIAN
METHOD:PUBLISH
X-ORIGINAL-URL:https://vfb-altheim-1920.de
X-WR-CALDESC:Veranstaltungen für VfB Altheim 1920 e.V.
REFRESH-INTERVAL;VALUE=DURATION:PT1H
X-Robots-Tag:noindex
X-PUBLISHED-TTL:PT1H
BEGIN:VTIMEZONE
TZID:UTC
BEGIN:STANDARD
TZOFFSETFROM:+0000
TZOFFSETTO:+0000
TZNAME:UTC
DTSTART:20220101T000000
END:STANDARD
END:VTIMEZONE
BEGIN:VEVENT
DTSTART;TZID=UTC:20231022T130000
DTEND;TZID=UTC:20231022T150000
DTSTAMP:20260423T230056
CREATED:20230921T122400Z
LAST-MODIFIED:20230921T122400Z
UID:537-1697979600-1697986800@vfb-altheim-1920.de
SUMMARY:SpG Adelsheim / Oberkessach - VfB II
DESCRIPTION:
URL:https://vfb-altheim-1920.de/event/spg-adelsheim-oberkessach-vfb-ii/
CATEGORIES:VfB II
END:VEVENT
BEGIN:VEVENT
DTSTART;TZID=UTC:20231022T150000
DTEND;TZID=UTC:20231022T170000
DTSTAMP:20260423T230056
CREATED:20230921T121628Z
LAST-MODIFIED:20230921T121628Z
UID:527-1697986800-1697994000@vfb-altheim-1920.de
SUMMARY:SV Großeicholzheim - VfB I
DESCRIPTION:
URL:https://vfb-altheim-1920.de/event/sv-grosseicholzheim-vfb-i/
CATEGORIES:VfB I
END:VEVENT
END:VCALENDAR