BEGIN:VCALENDAR
VERSION:2.0
PRODID:-//VfB Altheim 1920 e.V. - ECPv6.15.20//NONSGML v1.0//EN
CALSCALE:GREGORIAN
METHOD:PUBLISH
X-WR-CALNAME:VfB Altheim 1920 e.V.
X-ORIGINAL-URL:https://vfb-altheim-1920.de
X-WR-CALDESC:Veranstaltungen für VfB Altheim 1920 e.V.
REFRESH-INTERVAL;VALUE=DURATION:PT1H
X-Robots-Tag:noindex
X-PUBLISHED-TTL:PT1H
BEGIN:VTIMEZONE
TZID:UTC
BEGIN:STANDARD
TZOFFSETFROM:+0000
TZOFFSETTO:+0000
TZNAME:UTC
DTSTART:20220101T000000
END:STANDARD
END:VTIMEZONE
BEGIN:VEVENT
DTSTART;TZID=UTC:20231029T123000
DTEND;TZID=UTC:20231029T143000
DTSTAMP:20260423T225720
CREATED:20230921T122443Z
LAST-MODIFIED:20230921T122443Z
UID:539-1698582600-1698589800@vfb-altheim-1920.de
SUMMARY:VfB II - SpG Waldhausen / Laudenberg II
DESCRIPTION:
URL:https://vfb-altheim-1920.de/event/vfb-ii-spg-waldhausen-laudenberg-ii/
CATEGORIES:VfB II
END:VEVENT
BEGIN:VEVENT
DTSTART;TZID=UTC:20231029T143000
DTEND;TZID=UTC:20231029T163000
DTSTAMP:20260423T225720
CREATED:20230921T121714Z
LAST-MODIFIED:20230921T122203Z
UID:529-1698589800-1698597000@vfb-altheim-1920.de
SUMMARY:VfB I - SpG Waldhausen / Laudenberg
DESCRIPTION:
URL:https://vfb-altheim-1920.de/event/vfb-i-spg-waldhausen-laudenberg/
CATEGORIES:VfB I
END:VEVENT
END:VCALENDAR