BEGIN:VCALENDAR
VERSION:2.0
PRODID:-//VfB Altheim 1920 e.V. - ECPv6.15.20//NONSGML v1.0//EN
CALSCALE:GREGORIAN
METHOD:PUBLISH
X-WR-CALNAME:VfB Altheim 1920 e.V.
X-ORIGINAL-URL:https://vfb-altheim-1920.de
X-WR-CALDESC:Veranstaltungen für VfB Altheim 1920 e.V.
REFRESH-INTERVAL;VALUE=DURATION:PT1H
X-Robots-Tag:noindex
X-PUBLISHED-TTL:PT1H
BEGIN:VTIMEZONE
TZID:UTC
BEGIN:STANDARD
TZOFFSETFROM:+0000
TZOFFSETTO:+0000
TZNAME:UTC
DTSTART:20230101T000000
END:STANDARD
END:VTIMEZONE
BEGIN:VEVENT
DTSTART;TZID=UTC:20240401T130000
DTEND;TZID=UTC:20240401T170000
DTSTAMP:20260423T103716
CREATED:20231208T080721Z
LAST-MODIFIED:20240130T070329Z
UID:1058-1711976400-1711990800@vfb-altheim-1920.de
SUMMARY:SpG Rippberg / Wettersdorf-Glashofen II - VfB II
DESCRIPTION:
URL:https://vfb-altheim-1920.de/event/spg-rippberg-wettersdorf-glashofen-ii-vfb-ii/
CATEGORIES:VfB II
END:VEVENT
BEGIN:VEVENT
DTSTART;TZID=UTC:20240401T150000
DTEND;TZID=UTC:20240401T170000
DTSTAMP:20260423T103716
CREATED:20231208T074145Z
LAST-MODIFIED:20240130T070323Z
UID:1034-1711983600-1711990800@vfb-altheim-1920.de
SUMMARY:SpG Schloßau / Donebach - VfB I
DESCRIPTION:
URL:https://vfb-altheim-1920.de/event/spg-schlossau-donebach-vfb-i/
CATEGORIES:VfB I
END:VEVENT
END:VCALENDAR