BEGIN:VCALENDAR
VERSION:2.0
PRODID:-//VfB Altheim 1920 e.V. - ECPv6.15.20//NONSGML v1.0//EN
CALSCALE:GREGORIAN
METHOD:PUBLISH
X-WR-CALNAME:VfB Altheim 1920 e.V.
X-ORIGINAL-URL:https://vfb-altheim-1920.de
X-WR-CALDESC:Veranstaltungen für VfB Altheim 1920 e.V.
REFRESH-INTERVAL;VALUE=DURATION:PT1H
X-Robots-Tag:noindex
X-PUBLISHED-TTL:PT1H
BEGIN:VTIMEZONE
TZID:UTC
BEGIN:STANDARD
TZOFFSETFROM:+0000
TZOFFSETTO:+0000
TZNAME:UTC
DTSTART:20230101T000000
END:STANDARD
END:VTIMEZONE
BEGIN:VEVENT
DTSTART;TZID=UTC:20240520T150000
DTEND;TZID=UTC:20240520T170000
DTSTAMP:20260421T074431
CREATED:20231208T075340Z
LAST-MODIFIED:20240130T070234Z
UID:1048-1716217200-1716224400@vfb-altheim-1920.de
SUMMARY:VfB I - SV Seckach
DESCRIPTION:
URL:https://vfb-altheim-1920.de/event/vfb-i-sv-seckach/
CATEGORIES:VfB I
END:VEVENT
END:VCALENDAR