BEGIN:VCALENDAR
VERSION:2.0
PRODID:-//VfB Altheim 1920 e.V. - ECPv6.15.20//NONSGML v1.0//EN
CALSCALE:GREGORIAN
METHOD:PUBLISH
X-WR-CALNAME:VfB Altheim 1920 e.V.
X-ORIGINAL-URL:https://vfb-altheim-1920.de
X-WR-CALDESC:Veranstaltungen für VfB Altheim 1920 e.V.
REFRESH-INTERVAL;VALUE=DURATION:PT1H
X-Robots-Tag:noindex
X-PUBLISHED-TTL:PT1H
BEGIN:VTIMEZONE
TZID:UTC
BEGIN:STANDARD
TZOFFSETFROM:+0000
TZOFFSETTO:+0000
TZNAME:UTC
DTSTART:20230101T000000
END:STANDARD
END:VTIMEZONE
BEGIN:VEVENT
DTSTART;TZID=UTC:20240713T150000
DTEND;TZID=UTC:20240713T170000
DTSTAMP:20260421T041833
CREATED:20240711T084527Z
LAST-MODIFIED:20240711T084527Z
UID:1458-1720882800-1720890000@vfb-altheim-1920.de
SUMMARY:Stadtmeisterschaft Buchen: SpG Altheim/Hettingen : SpG Heidersbach/Bödigheim
DESCRIPTION:
URL:https://vfb-altheim-1920.de/event/stadtmeisterschaft-buchen-spg-altheim-hettingen-spg-heidersbach-boedigheim/
LOCATION:Eberstadt
CATEGORIES:VfB I
END:VEVENT
BEGIN:VEVENT
DTSTART;TZID=UTC:20240713T180000
DTEND;TZID=UTC:20240713T200000
DTSTAMP:20260421T041833
CREATED:20240629T195539Z
LAST-MODIFIED:20240711T084612Z
UID:1448-1720893600-1720900800@vfb-altheim-1920.de
SUMMARY:Trainingsspiel: TSV Oberwittstadt - SpG Altheim/Hettingen
DESCRIPTION:
URL:https://vfb-altheim-1920.de/event/trainingsspiel-tsv-oberwittstadt-vfb-i/
CATEGORIES:VfB I
END:VEVENT
END:VCALENDAR