BEGIN:VCALENDAR
VERSION:2.0
PRODID:-//VfB Altheim 1920 e.V. - ECPv6.15.20//NONSGML v1.0//EN
CALSCALE:GREGORIAN
METHOD:PUBLISH
X-WR-CALNAME:VfB Altheim 1920 e.V.
X-ORIGINAL-URL:https://vfb-altheim-1920.de
X-WR-CALDESC:Veranstaltungen für VfB Altheim 1920 e.V.
REFRESH-INTERVAL;VALUE=DURATION:PT1H
X-Robots-Tag:noindex
X-PUBLISHED-TTL:PT1H
BEGIN:VTIMEZONE
TZID:UTC
BEGIN:STANDARD
TZOFFSETFROM:+0000
TZOFFSETTO:+0000
TZNAME:UTC
DTSTART:20230101T000000
END:STANDARD
END:VTIMEZONE
BEGIN:VEVENT
DTSTART;VALUE=DATE:20240720
DTEND;VALUE=DATE:20240723
DTSTAMP:20260421T041956
CREATED:20240629T194953Z
LAST-MODIFIED:20240629T194953Z
UID:1440-1721433600-1721692799@vfb-altheim-1920.de
SUMMARY:Sportfest
DESCRIPTION:
URL:https://vfb-altheim-1920.de/event/sportfest/
CATEGORIES:Veranstaltungen
END:VEVENT
BEGIN:VEVENT
DTSTART;TZID=UTC:20240721T160000
DTEND;TZID=UTC:20240721T180000
DTSTAMP:20260421T041956
CREATED:20240717T125014Z
LAST-MODIFIED:20240717T125215Z
UID:1499-1721577600-1721584800@vfb-altheim-1920.de
SUMMARY:Trainingsspiel: SpG Altheim/Hettingen I - SpG Ballbachtal
DESCRIPTION:
URL:https://vfb-altheim-1920.de/event/trainingsspiel-spg-altheim-hettingen-i-spg-ballbachtal/
CATEGORIES:VfB I
END:VEVENT
BEGIN:VEVENT
DTSTART;TZID=UTC:20240721T180000
DTEND;TZID=UTC:20240721T200000
DTSTAMP:20260421T041956
CREATED:20240711T085042Z
LAST-MODIFIED:20240711T085042Z
UID:1464-1721584800-1721592000@vfb-altheim-1920.de
SUMMARY:Kreispokal: SpG Altheim/Hettingen II - SpG Schloßau/Donebach II
DESCRIPTION:
URL:https://vfb-altheim-1920.de/event/kreispokal-spg-altheim-hettingen-ii-spg-schlossau-donebach-ii/
CATEGORIES:VfB II
END:VEVENT
END:VCALENDAR