BEGIN:VCALENDAR
VERSION:2.0
PRODID:-//VfB Altheim 1920 e.V. - ECPv6.15.20//NONSGML v1.0//EN
CALSCALE:GREGORIAN
METHOD:PUBLISH
X-WR-CALNAME:VfB Altheim 1920 e.V.
X-ORIGINAL-URL:https://vfb-altheim-1920.de
X-WR-CALDESC:Veranstaltungen für VfB Altheim 1920 e.V.
REFRESH-INTERVAL;VALUE=DURATION:PT1H
X-Robots-Tag:noindex
X-PUBLISHED-TTL:PT1H
BEGIN:VTIMEZONE
TZID:UTC
BEGIN:STANDARD
TZOFFSETFROM:+0000
TZOFFSETTO:+0000
TZNAME:UTC
DTSTART:20230101T000000
END:STANDARD
END:VTIMEZONE
BEGIN:VEVENT
DTSTART;TZID=UTC:20240730T190000
DTEND;TZID=UTC:20240730T210000
DTSTAMP:20260421T023515
CREATED:20240711T085447Z
LAST-MODIFIED:20240711T085447Z
UID:1470-1722366000-1722373200@vfb-altheim-1920.de
SUMMARY:Trainingsspiel: TV Niederstetten - SpG Altheim/Hettingen
DESCRIPTION:
URL:https://vfb-altheim-1920.de/event/trainingsspiel-tv-niederstetten-spg-altheim-hettingen/
END:VEVENT
END:VCALENDAR