BEGIN:VCALENDAR
VERSION:2.0
PRODID:-//VfB Altheim 1920 e.V. - ECPv6.15.20//NONSGML v1.0//EN
CALSCALE:GREGORIAN
METHOD:PUBLISH
X-ORIGINAL-URL:https://vfb-altheim-1920.de
X-WR-CALDESC:Veranstaltungen für VfB Altheim 1920 e.V.
REFRESH-INTERVAL;VALUE=DURATION:PT1H
X-Robots-Tag:noindex
X-PUBLISHED-TTL:PT1H
BEGIN:VTIMEZONE
TZID:UTC
BEGIN:STANDARD
TZOFFSETFROM:+0000
TZOFFSETTO:+0000
TZNAME:UTC
DTSTART:20230101T000000
END:STANDARD
END:VTIMEZONE
BEGIN:VEVENT
DTSTART;TZID=UTC:20241002T190000
DTEND;TZID=UTC:20241002T190000
DTSTAMP:20260420T233850
CREATED:20240930T074610Z
LAST-MODIFIED:20240930T074853Z
UID:1638-1727895600-1727895600@vfb-altheim-1920.de
SUMMARY:SV Großeicholzheim - SpG Altheim /​ Hettingen
DESCRIPTION:
URL:https://vfb-altheim-1920.de/event/sv-grosseicholzheim-spg-altheim-hettingen/
CATEGORIES:VfB I
END:VEVENT
END:VCALENDAR