BEGIN:VCALENDAR
VERSION:2.0
PRODID:-//VfB Altheim 1920 e.V. - ECPv6.15.20//NONSGML v1.0//EN
CALSCALE:GREGORIAN
METHOD:PUBLISH
X-ORIGINAL-URL:https://vfb-altheim-1920.de
X-WR-CALDESC:Veranstaltungen für VfB Altheim 1920 e.V.
REFRESH-INTERVAL;VALUE=DURATION:PT1H
X-Robots-Tag:noindex
X-PUBLISHED-TTL:PT1H
BEGIN:VTIMEZONE
TZID:UTC
BEGIN:STANDARD
TZOFFSETFROM:+0000
TZOFFSETTO:+0000
TZNAME:UTC
DTSTART:20230101T000000
END:STANDARD
END:VTIMEZONE
BEGIN:VEVENT
DTSTART;TZID=UTC:20241005T153000
DTEND;TZID=UTC:20241005T153000
DTSTAMP:20260420T233752
CREATED:20240930T074744Z
LAST-MODIFIED:20240930T074822Z
UID:1640-1728142200-1728142200@vfb-altheim-1920.de
SUMMARY:SpG Altheim /​ Hettingen - SpG Erftal
DESCRIPTION:
URL:https://vfb-altheim-1920.de/event/spg-altheim-hettingen-spg-erftal/
CATEGORIES:VfB I
END:VEVENT
END:VCALENDAR