BEGIN:VCALENDAR
VERSION:2.0
PRODID:-//VfB Altheim 1920 e.V. - ECPv6.15.20//NONSGML v1.0//EN
CALSCALE:GREGORIAN
METHOD:PUBLISH
X-ORIGINAL-URL:https://vfb-altheim-1920.de
X-WR-CALDESC:Veranstaltungen für VfB Altheim 1920 e.V.
REFRESH-INTERVAL;VALUE=DURATION:PT1H
X-Robots-Tag:noindex
X-PUBLISHED-TTL:PT1H
BEGIN:VTIMEZONE
TZID:UTC
BEGIN:STANDARD
TZOFFSETFROM:+0000
TZOFFSETTO:+0000
TZNAME:UTC
DTSTART:20240101T000000
END:STANDARD
END:VTIMEZONE
BEGIN:VEVENT
DTSTART;TZID=UTC:20250314T190000
DTEND;TZID=UTC:20250314T210000
DTSTAMP:20260420T155038
CREATED:20250114T082209Z
LAST-MODIFIED:20250114T082209Z
UID:1851-1741978800-1741986000@vfb-altheim-1920.de
SUMMARY:SpG Altheim /​ Hettingen - SV Schlierstadt
DESCRIPTION:
URL:https://vfb-altheim-1920.de/event/spg-altheim-hettingen-sv-schlierstadt/
CATEGORIES:VfB I
END:VEVENT
END:VCALENDAR