BEGIN:VCALENDAR
VERSION:2.0
PRODID:-//VfB Altheim 1920 e.V. - ECPv6.15.20//NONSGML v1.0//EN
CALSCALE:GREGORIAN
METHOD:PUBLISH
X-WR-CALNAME:VfB Altheim 1920 e.V.
X-ORIGINAL-URL:https://vfb-altheim-1920.de
X-WR-CALDESC:Veranstaltungen für VfB Altheim 1920 e.V.
REFRESH-INTERVAL;VALUE=DURATION:PT1H
X-Robots-Tag:noindex
X-PUBLISHED-TTL:PT1H
BEGIN:VTIMEZONE
TZID:UTC
BEGIN:STANDARD
TZOFFSETFROM:+0000
TZOFFSETTO:+0000
TZNAME:UTC
DTSTART:20240101T000000
END:STANDARD
END:VTIMEZONE
BEGIN:VEVENT
DTSTART;TZID=UTC:20250329T190000
DTEND;TZID=UTC:20250329T200000
DTSTAMP:20260420T154848
CREATED:20250327T124107Z
LAST-MODIFIED:20250327T124134Z
UID:1934-1743274800-1743278400@vfb-altheim-1920.de
SUMMARY:Generalversammlung Förderverein VfB Altheim
DESCRIPTION:
URL:https://vfb-altheim-1920.de/event/generalversammlung-vfb-altheim/
CATEGORIES:Veranstaltungen
END:VEVENT
BEGIN:VEVENT
DTSTART;TZID=UTC:20250329T200000
DTEND;TZID=UTC:20250329T213000
DTSTAMP:20260420T154848
CREATED:20250327T124225Z
LAST-MODIFIED:20250327T124225Z
UID:1937-1743278400-1743283800@vfb-altheim-1920.de
SUMMARY:Generalversammlung VfB Altheim
DESCRIPTION:
URL:https://vfb-altheim-1920.de/event/generalversammlung-vfb-altheim-2/
CATEGORIES:Veranstaltungen
END:VEVENT
END:VCALENDAR