BEGIN:VCALENDAR
VERSION:2.0
PRODID:-//VfB Altheim 1920 e.V. - ECPv6.15.20//NONSGML v1.0//EN
CALSCALE:GREGORIAN
METHOD:PUBLISH
X-ORIGINAL-URL:https://vfb-altheim-1920.de
X-WR-CALDESC:Veranstaltungen für VfB Altheim 1920 e.V.
REFRESH-INTERVAL;VALUE=DURATION:PT1H
X-Robots-Tag:noindex
X-PUBLISHED-TTL:PT1H
BEGIN:VTIMEZONE
TZID:UTC
BEGIN:STANDARD
TZOFFSETFROM:+0000
TZOFFSETTO:+0000
TZNAME:UTC
DTSTART:20240101T000000
END:STANDARD
END:VTIMEZONE
BEGIN:VEVENT
DTSTART;TZID=UTC:20250413T130000
DTEND;TZID=UTC:20250413T150000
DTSTAMP:20260420T135101
CREATED:20250114T084422Z
LAST-MODIFIED:20250114T084422Z
UID:1881-1744549200-1744556400@vfb-altheim-1920.de
SUMMARY:SpG Altheim 2 /​ Hettingen 2 - SpG Rippberg /​ Wettersdorf-Glashofen
DESCRIPTION:
URL:https://vfb-altheim-1920.de/event/spg-altheim-2-hettingen-2-spg-rippberg-wettersdorf-glashofen/
CATEGORIES:VfB II
END:VEVENT
BEGIN:VEVENT
DTSTART;TZID=UTC:20250413T150000
DTEND;TZID=UTC:20250413T170000
DTSTAMP:20260420T135101
CREATED:20250114T082820Z
LAST-MODIFIED:20250114T082820Z
UID:1863-1744556400-1744563600@vfb-altheim-1920.de
SUMMARY:SpG Altheim /​ Hettingen - SV Großeicholzheim
DESCRIPTION:
URL:https://vfb-altheim-1920.de/event/spg-altheim-hettingen-sv-grosseicholzheim/
CATEGORIES:VfB I
END:VEVENT
END:VCALENDAR