BEGIN:VCALENDAR
VERSION:2.0
PRODID:-//VfB Altheim 1920 e.V. - ECPv6.15.20//NONSGML v1.0//EN
CALSCALE:GREGORIAN
METHOD:PUBLISH
X-ORIGINAL-URL:https://vfb-altheim-1920.de
X-WR-CALDESC:Veranstaltungen für VfB Altheim 1920 e.V.
REFRESH-INTERVAL;VALUE=DURATION:PT1H
X-Robots-Tag:noindex
X-PUBLISHED-TTL:PT1H
BEGIN:VTIMEZONE
TZID:UTC
BEGIN:STANDARD
TZOFFSETFROM:+0000
TZOFFSETTO:+0000
TZNAME:UTC
DTSTART:20220101T000000
END:STANDARD
END:VTIMEZONE
BEGIN:VEVENT
DTSTART;TZID=UTC:20230924T130000
DTEND;TZID=UTC:20230924T130000
DTSTAMP:20260423T230931
CREATED:20230920T121502Z
LAST-MODIFIED:20230920T122719Z
UID:338-1695560400-1695560400@vfb-altheim-1920.de
SUMMARY:VfB II - SPG Rippberg / Wettersdorf-Glashofen / Walldürn II
DESCRIPTION:
URL:https://vfb-altheim-1920.de/event/vfb-ii-spg-rippberg-wettersdorf-glashofen-wallduern-ii/
CATEGORIES:VfB II
END:VEVENT
BEGIN:VEVENT
DTSTART;TZID=UTC:20230924T150000
DTEND;TZID=UTC:20230924T150000
DTSTAMP:20260423T230931
CREATED:20230920T122706Z
LAST-MODIFIED:20230920T122942Z
UID:345-1695567600-1695567600@vfb-altheim-1920.de
SUMMARY:VfB I - SpG Schloßau /​ Donebach
DESCRIPTION:
URL:https://vfb-altheim-1920.de/event/vfb-i-spg-schlossau-donebach/
CATEGORIES:VfB I
END:VEVENT
BEGIN:VEVENT
DTSTART;TZID=UTC:20230930T153000
DTEND;TZID=UTC:20230930T173000
DTSTAMP:20260423T230931
CREATED:20230920T122758Z
LAST-MODIFIED:20230920T123859Z
UID:347-1696087800-1696095000@vfb-altheim-1920.de
SUMMARY:SpVgg Hainstadt - VfB I
DESCRIPTION:
URL:https://vfb-altheim-1920.de/event/spvgg-hainstadt-vfb-i/
CATEGORIES:VfB I
END:VEVENT
END:VCALENDAR