BEGIN:VCALENDAR
VERSION:2.0
PRODID:-//VfB Altheim 1920 e.V. - ECPv6.15.20//NONSGML v1.0//EN
CALSCALE:GREGORIAN
METHOD:PUBLISH
X-ORIGINAL-URL:https://vfb-altheim-1920.de
X-WR-CALDESC:Veranstaltungen für VfB Altheim 1920 e.V.
REFRESH-INTERVAL;VALUE=DURATION:PT1H
X-Robots-Tag:noindex
X-PUBLISHED-TTL:PT1H
BEGIN:VTIMEZONE
TZID:UTC
BEGIN:STANDARD
TZOFFSETFROM:+0000
TZOFFSETTO:+0000
TZNAME:UTC
DTSTART:20220101T000000
END:STANDARD
END:VTIMEZONE
BEGIN:VEVENT
DTSTART;TZID=UTC:20231105T143000
DTEND;TZID=UTC:20231105T163000
DTSTAMP:20260423T195516
CREATED:20230921T121915Z
LAST-MODIFIED:20230921T121915Z
UID:531-1699194600-1699201800@vfb-altheim-1920.de
SUMMARY:SV Seckach - VfB I
DESCRIPTION:
URL:https://vfb-altheim-1920.de/event/sv-seckach-vfb-i/
CATEGORIES:VfB I
END:VEVENT
BEGIN:VEVENT
DTSTART;TZID=UTC:20231110T190000
DTEND;TZID=UTC:20231110T210000
DTSTAMP:20260423T195516
CREATED:20230921T122012Z
LAST-MODIFIED:20230921T122012Z
UID:533-1699642800-1699650000@vfb-altheim-1920.de
SUMMARY:VfB I - SpG Krautheim / Waldhausen
DESCRIPTION:
URL:https://vfb-altheim-1920.de/event/vfb-i-spg-krautheim-waldhausen/
CATEGORIES:VfB I
END:VEVENT
BEGIN:VEVENT
DTSTART;TZID=UTC:20231119T143000
DTEND;TZID=UTC:20231119T163000
DTSTAMP:20260423T195516
CREATED:20230921T122048Z
LAST-MODIFIED:20230921T122048Z
UID:535-1700404200-1700411400@vfb-altheim-1920.de
SUMMARY:SV Schlierstadt - VfB I
DESCRIPTION:
URL:https://vfb-altheim-1920.de/event/sv-schlierstadt-vfb-i/
CATEGORIES:VfB I
END:VEVENT
END:VCALENDAR