BEGIN:VCALENDAR
VERSION:2.0
PRODID:-//VfB Altheim 1920 e.V. - ECPv6.15.20//NONSGML v1.0//EN
CALSCALE:GREGORIAN
METHOD:PUBLISH
X-WR-CALNAME:VfB Altheim 1920 e.V.
X-ORIGINAL-URL:https://vfb-altheim-1920.de
X-WR-CALDESC:Veranstaltungen für VfB Altheim 1920 e.V.
REFRESH-INTERVAL;VALUE=DURATION:PT1H
X-Robots-Tag:noindex
X-PUBLISHED-TTL:PT1H
BEGIN:VTIMEZONE
TZID:UTC
BEGIN:STANDARD
TZOFFSETFROM:+0000
TZOFFSETTO:+0000
TZNAME:UTC
DTSTART:20240101T000000
END:STANDARD
END:VTIMEZONE
BEGIN:VEVENT
DTSTART;TZID=UTC:20250309T150000
DTEND;TZID=UTC:20250309T170000
DTSTAMP:20260420T140723
CREATED:20250114T081317Z
LAST-MODIFIED:20250114T081317Z
UID:1849-1741532400-1741539600@vfb-altheim-1920.de
SUMMARY:FC Zimmer - SpG Altheim /​ Hettingen
DESCRIPTION:
URL:https://vfb-altheim-1920.de/event/fc-zimmer-spg-altheim-hettingen/
CATEGORIES:VfB I
END:VEVENT
BEGIN:VEVENT
DTSTART;TZID=UTC:20250314T190000
DTEND;TZID=UTC:20250314T210000
DTSTAMP:20260420T140723
CREATED:20250114T082209Z
LAST-MODIFIED:20250114T082209Z
UID:1851-1741978800-1741986000@vfb-altheim-1920.de
SUMMARY:SpG Altheim /​ Hettingen - SV Schlierstadt
DESCRIPTION:
URL:https://vfb-altheim-1920.de/event/spg-altheim-hettingen-sv-schlierstadt/
CATEGORIES:VfB I
END:VEVENT
BEGIN:VEVENT
DTSTART;TZID=UTC:20250316T150000
DTEND;TZID=UTC:20250316T170000
DTSTAMP:20260420T140723
CREATED:20250114T083636Z
LAST-MODIFIED:20250114T083636Z
UID:1871-1742137200-1742144400@vfb-altheim-1920.de
SUMMARY:SpG Altheim 2 /​ Hettingen 2 - SpG Adelsheim /​ Oberkessach
DESCRIPTION:
URL:https://vfb-altheim-1920.de/event/spg-altheim-2-hettingen-2-spg-adelsheim-oberkessach/
CATEGORIES:VfB II
END:VEVENT
BEGIN:VEVENT
DTSTART;TZID=UTC:20250323T150000
DTEND;TZID=UTC:20250323T170000
DTSTAMP:20260420T140723
CREATED:20250114T082716Z
LAST-MODIFIED:20250114T082716Z
UID:1861-1742742000-1742749200@vfb-altheim-1920.de
SUMMARY:SpG Waldhausen /​ Laudenberg - SpG Altheim /​ Hettingen
DESCRIPTION:
URL:https://vfb-altheim-1920.de/event/spg-waldhausen-laudenberg-spg-altheim-hettingen/
CATEGORIES:VfB I
END:VEVENT
BEGIN:VEVENT
DTSTART;TZID=UTC:20250323T150000
DTEND;TZID=UTC:20250323T170000
DTSTAMP:20260420T140723
CREATED:20250114T083735Z
LAST-MODIFIED:20250114T083735Z
UID:1873-1742742000-1742749200@vfb-altheim-1920.de
SUMMARY:SV Hettigenbeuern - SpG Altheim 2 /​ Hettingen 2
DESCRIPTION:
URL:https://vfb-altheim-1920.de/event/sv-hettigenbeuern-spg-altheim-2-hettingen-2/
CATEGORIES:VfB II
END:VEVENT
BEGIN:VEVENT
DTSTART;TZID=UTC:20250329T190000
DTEND;TZID=UTC:20250329T200000
DTSTAMP:20260420T140723
CREATED:20250327T124107Z
LAST-MODIFIED:20250327T124134Z
UID:1934-1743274800-1743278400@vfb-altheim-1920.de
SUMMARY:Generalversammlung Förderverein VfB Altheim
DESCRIPTION:
URL:https://vfb-altheim-1920.de/event/generalversammlung-vfb-altheim/
CATEGORIES:Veranstaltungen
END:VEVENT
BEGIN:VEVENT
DTSTART;TZID=UTC:20250329T200000
DTEND;TZID=UTC:20250329T213000
DTSTAMP:20260420T140723
CREATED:20250327T124225Z
LAST-MODIFIED:20250327T124225Z
UID:1937-1743278400-1743283800@vfb-altheim-1920.de
SUMMARY:Generalversammlung VfB Altheim
DESCRIPTION:
URL:https://vfb-altheim-1920.de/event/generalversammlung-vfb-altheim-2/
CATEGORIES:Veranstaltungen
END:VEVENT
BEGIN:VEVENT
DTSTART;TZID=UTC:20250330T130000
DTEND;TZID=UTC:20250330T150000
DTSTAMP:20260420T140723
CREATED:20250114T084007Z
LAST-MODIFIED:20250114T084007Z
UID:1875-1743339600-1743346800@vfb-altheim-1920.de
SUMMARY:SpG Oberwittstadt 2 /​ Ballenberg 1 - SpG Altheim 2 /​ Hettingen 2
DESCRIPTION:
URL:https://vfb-altheim-1920.de/event/spg-oberwittstadt-2-ballenberg-1-spg-altheim-2-hettingen-2/
CATEGORIES:VfB II
END:VEVENT
BEGIN:VEVENT
DTSTART;TZID=UTC:20250330T150000
DTEND;TZID=UTC:20250330T170000
DTSTAMP:20260420T140723
CREATED:20250114T082353Z
LAST-MODIFIED:20250114T082353Z
UID:1855-1743346800-1743354000@vfb-altheim-1920.de
SUMMARY:SpG Heidersbach /​ Bödigheim - SpG Altheim /​ Hettingen
DESCRIPTION:
URL:https://vfb-altheim-1920.de/event/spg-heidersbach-boedigheim-spg-altheim-hettingen/
CATEGORIES:VfB I
END:VEVENT
END:VCALENDAR