BEGIN:VCALENDAR
VERSION:2.0
PRODID:-//VfB Altheim 1920 e.V. - ECPv6.15.20//NONSGML v1.0//EN
CALSCALE:GREGORIAN
METHOD:PUBLISH
X-WR-CALNAME:VfB Altheim 1920 e.V.
X-ORIGINAL-URL:https://vfb-altheim-1920.de
X-WR-CALDESC:Veranstaltungen für VfB Altheim 1920 e.V.
REFRESH-INTERVAL;VALUE=DURATION:PT1H
X-Robots-Tag:noindex
X-PUBLISHED-TTL:PT1H
BEGIN:VTIMEZONE
TZID:UTC
BEGIN:STANDARD
TZOFFSETFROM:+0000
TZOFFSETTO:+0000
TZNAME:UTC
DTSTART:20240101T000000
END:STANDARD
END:VTIMEZONE
BEGIN:VEVENT
DTSTART;TZID=UTC:20250402T174500
DTEND;TZID=UTC:20250402T194500
DTSTAMP:20260420T121930
CREATED:20250114T082509Z
LAST-MODIFIED:20250114T082509Z
UID:1857-1743615900-1743623100@vfb-altheim-1920.de
SUMMARY:SpG Altheim /​ Hettingen - TTSC Buchen
DESCRIPTION:
URL:https://vfb-altheim-1920.de/event/spg-altheim-hettingen-ttsc-buchen/
CATEGORIES:VfB I
END:VEVENT
BEGIN:VEVENT
DTSTART;TZID=UTC:20250403T174500
DTEND;TZID=UTC:20250403T194500
DTSTAMP:20260420T121930
CREATED:20250114T084121Z
LAST-MODIFIED:20250114T084121Z
UID:1877-1743702300-1743709500@vfb-altheim-1920.de
SUMMARY:SpG Altheim 2 /​ Hettingen 2 - SV Seckach
DESCRIPTION:
URL:https://vfb-altheim-1920.de/event/spg-altheim-2-hettingen-2-sv-seckach/
CATEGORIES:VfB II
END:VEVENT
BEGIN:VEVENT
DTSTART;TZID=UTC:20250406T140000
DTEND;TZID=UTC:20250406T160000
DTSTAMP:20260420T121930
CREATED:20250114T084309Z
LAST-MODIFIED:20250114T084309Z
UID:1879-1743948000-1743955200@vfb-altheim-1920.de
SUMMARY:SpG Krautheim 2 /​ Westernhausen 2 - SpG Altheim 2 /​ Hettingen 2
DESCRIPTION:
URL:https://vfb-altheim-1920.de/event/spg-krautheim-2-westernhausen-2-spg-altheim-2-hettingen-2/
CATEGORIES:VfB II
END:VEVENT
BEGIN:VEVENT
DTSTART;TZID=UTC:20250406T160000
DTEND;TZID=UTC:20250406T180000
DTSTAMP:20260420T121930
CREATED:20250114T082611Z
LAST-MODIFIED:20250114T082611Z
UID:1859-1743955200-1743962400@vfb-altheim-1920.de
SUMMARY:SpG Krautheim /​ Westernhausen - SpG Altheim /​ Hettingen
DESCRIPTION:
URL:https://vfb-altheim-1920.de/event/spg-krautheim-westernhausen-spg-altheim-hettingen/
CATEGORIES:VfB I
END:VEVENT
BEGIN:VEVENT
DTSTART;TZID=UTC:20250413T130000
DTEND;TZID=UTC:20250413T150000
DTSTAMP:20260420T121930
CREATED:20250114T084422Z
LAST-MODIFIED:20250114T084422Z
UID:1881-1744549200-1744556400@vfb-altheim-1920.de
SUMMARY:SpG Altheim 2 /​ Hettingen 2 - SpG Rippberg /​ Wettersdorf-Glashofen
DESCRIPTION:
URL:https://vfb-altheim-1920.de/event/spg-altheim-2-hettingen-2-spg-rippberg-wettersdorf-glashofen/
CATEGORIES:VfB II
END:VEVENT
BEGIN:VEVENT
DTSTART;TZID=UTC:20250413T150000
DTEND;TZID=UTC:20250413T170000
DTSTAMP:20260420T121930
CREATED:20250114T082820Z
LAST-MODIFIED:20250114T082820Z
UID:1863-1744556400-1744563600@vfb-altheim-1920.de
SUMMARY:SpG Altheim /​ Hettingen - SV Großeicholzheim
DESCRIPTION:
URL:https://vfb-altheim-1920.de/event/spg-altheim-hettingen-sv-grosseicholzheim/
CATEGORIES:VfB I
END:VEVENT
BEGIN:VEVENT
DTSTART;TZID=UTC:20250421T150000
DTEND;TZID=UTC:20250421T170000
DTSTAMP:20260420T121930
CREATED:20250114T082922Z
LAST-MODIFIED:20250114T082922Z
UID:1865-1745247600-1745254800@vfb-altheim-1920.de
SUMMARY:SpG Erftal - SpG Altheim /​ Hettingen
DESCRIPTION:
URL:https://vfb-altheim-1920.de/event/spg-erftal-spg-altheim-hettingen/
CATEGORIES:VfB I
END:VEVENT
BEGIN:VEVENT
DTSTART;TZID=UTC:20250421T150000
DTEND;TZID=UTC:20250421T170000
DTSTAMP:20260420T121930
CREATED:20250114T084534Z
LAST-MODIFIED:20250114T084534Z
UID:1883-1745247600-1745254800@vfb-altheim-1920.de
SUMMARY:Eintracht Walldürn - SpG Altheim 2 /​ Hettingen 2
DESCRIPTION:
URL:https://vfb-altheim-1920.de/event/eintracht-wallduern-spg-altheim-2-hettingen-2/
CATEGORIES:VfB II
END:VEVENT
BEGIN:VEVENT
DTSTART;TZID=UTC:20250427T130000
DTEND;TZID=UTC:20250427T150000
DTSTAMP:20260420T121930
CREATED:20250114T084645Z
LAST-MODIFIED:20250114T084645Z
UID:1885-1745758800-1745766000@vfb-altheim-1920.de
SUMMARY:SpG Altheim 2 /​ Hettingen 2 - SpG Sindolsheim 1 /​ Rosenberg 2
DESCRIPTION:
URL:https://vfb-altheim-1920.de/event/spg-altheim-2-hettingen-2-spg-sindolsheim-1-rosenberg-2/
CATEGORIES:VfB II
END:VEVENT
END:VCALENDAR