BEGIN:VCALENDAR
VERSION:2.0
PRODID:-//VfB Altheim 1920 e.V. - ECPv6.15.20//NONSGML v1.0//EN
CALSCALE:GREGORIAN
METHOD:PUBLISH
X-WR-CALNAME:VfB Altheim 1920 e.V.
X-ORIGINAL-URL:https://vfb-altheim-1920.de
X-WR-CALDESC:Veranstaltungen für VfB Altheim 1920 e.V.
REFRESH-INTERVAL;VALUE=DURATION:PT1H
X-Robots-Tag:noindex
X-PUBLISHED-TTL:PT1H
BEGIN:VTIMEZONE
TZID:UTC
BEGIN:STANDARD
TZOFFSETFROM:+0000
TZOFFSETTO:+0000
TZNAME:UTC
DTSTART:20240101T000000
END:STANDARD
END:VTIMEZONE
BEGIN:VEVENT
DTSTART;TZID=UTC:20250502T183000
DTEND;TZID=UTC:20250502T203000
DTSTAMP:20260420T102620
CREATED:20250114T083104Z
LAST-MODIFIED:20250114T083104Z
UID:1869-1746210600-1746217800@vfb-altheim-1920.de
SUMMARY:SpG Schloßau /​ Donebach - SpG Altheim /​ Hettingen
DESCRIPTION:
URL:https://vfb-altheim-1920.de/event/spg-schlossau-donebach-spg-altheim-hettingen/
CATEGORIES:VfB I
END:VEVENT
BEGIN:VEVENT
DTSTART;TZID=UTC:20250504T150000
DTEND;TZID=UTC:20250504T170000
DTSTAMP:20260420T102620
CREATED:20250114T084729Z
LAST-MODIFIED:20250114T084729Z
UID:1887-1746370800-1746378000@vfb-altheim-1920.de
SUMMARY:SpG Osterburken 2 /​ Bofsheim 1 - SpG Altheim 2 /​ Hettingen 2
DESCRIPTION:
URL:https://vfb-altheim-1920.de/event/spg-osterburken-2-bofsheim-1-spg-altheim-2-hettingen-2/
CATEGORIES:VfB II
END:VEVENT
BEGIN:VEVENT
DTSTART;TZID=UTC:20250511T130000
DTEND;TZID=UTC:20250511T150000
DTSTAMP:20260420T102620
CREATED:20250114T084822Z
LAST-MODIFIED:20250114T084822Z
UID:1889-1746968400-1746975600@vfb-altheim-1920.de
SUMMARY:SpG Altheim 2 /​ Hettingen 2 - SpG Leibenstadt 1 /​ Sennfeld 2
DESCRIPTION:
URL:https://vfb-altheim-1920.de/event/spg-altheim-2-hettingen-2-spg-leibenstadt-1-sennfeld-2/
CATEGORIES:VfB II
END:VEVENT
END:VCALENDAR